{ "currentVersion": 11.2, "cimVersion": "3.2.0", "serviceDescription": "

Amtliche Basiskarte farbig<\/SPAN><\/P><\/DIV><\/DIV><\/DIV>", "mapName": "ABK_farbig", "description": "

Amtliche Basiskarte farbig<\/SPAN><\/P><\/DIV><\/DIV><\/DIV>", "copyrightText": "© Kreis Borken - sämtliche Geodaten sind urheberrechtlich geschützt!<\/a>", "supportsDynamicLayers": false, "layers": [ { "id": 0, "name": "ABK_farbig", "parentLayerId": -1, "defaultVisibility": true, "subLayerIds": [ 1, 2, 3 ], "minScale": 0, "maxScale": 0, "type": "Mosaic Layer", "supportsDynamicLegends": false }, { "id": 1, "name": "Grenze", "parentLayerId": 0, "defaultVisibility": false, "subLayerIds": null, "minScale": 0, "maxScale": 0, "type": "Feature Layer", "geometryType": "esriGeometryPolygon", "supportsDynamicLegends": true }, { "id": 2, "name": "Footprint", "parentLayerId": 0, "defaultVisibility": false, "subLayerIds": null, "minScale": 0, "maxScale": 0, "type": "Feature Layer", "geometryType": "esriGeometryPolygon", "supportsDynamicLegends": true }, { "id": 3, "name": "Bild", "parentLayerId": 0, "defaultVisibility": true, "subLayerIds": null, "minScale": 0, "maxScale": 0, "type": "Raster Layer", "supportsDynamicLegends": true } ], "tables": [], "spatialReference": { "wkid": 25832, "latestWkid": 25832, "xyTolerance": 0.001, "zTolerance": 0.001, "mTolerance": 0.001, "falseX": -5120900, "falseY": -9998100, "xyUnits": 10000, "falseZ": -100000, "zUnits": 10000, "falseM": -100000, "mUnits": 10000 }, "singleFusedMapCache": true, "tileInfo": { "rows": 256, "cols": 256, "dpi": 96, "format": "PNG32", "compressionQuality": 0, "origin": { "x": -3122500, "y": 10001000 }, "spatialReference": { "wkid": 25832, "latestWkid": 25832, "xyTolerance": 0.001, "zTolerance": 0.001, "mTolerance": 0.001, "falseX": -5120900, "falseY": -9998100, "xyUnits": 10000, "falseZ": -100000, "zUnits": 10000, "falseM": -100000, "mUnits": 10000 }, "lods": [ { "level": 0, "resolution": 264.5838625010584, "scale": 1000000 }, { "level": 1, "resolution": 132.2919312505292, "scale": 500000 }, { "level": 2, "resolution": 66.1459656252646, "scale": 250000 }, { "level": 3, "resolution": 26.458386250105836, "scale": 100000 }, { "level": 4, "resolution": 13.229193125052918, "scale": 50000 }, { "level": 5, "resolution": 6.614596562526459, "scale": 25000 }, { "level": 6, "resolution": 2.6458386250105836, "scale": 10000 }, { "level": 7, "resolution": 1.3229193125052918, "scale": 5000 }, { "level": 8, "resolution": 0.6614596562526459, "scale": 2500 }, { "level": 9, "resolution": 0.26458386250105836, "scale": 1000 }, { "level": 10, "resolution": 0.13229193125052918, "scale": 500 } ] }, "storageInfo": { "storageFormat": "esriMapCacheStorageModeCompactV2", "packetSize": 128 }, "initialExtent": { "xmin": 318342.8374361366, "ymin": 5723751.166662678, "xmax": 400998.0847220233, "ymax": 5787551.166662678, "spatialReference": { "wkid": 25832, "latestWkid": 25832, "xyTolerance": 0.001, "zTolerance": 0.001, "mTolerance": 0.001, "falseX": -5120900, "falseY": -9998100, "xyUnits": 10000, "falseZ": -100000, "zUnits": 10000, "falseM": -100000, "mUnits": 10000 } }, "fullExtent": { "xmin": 314330.40682088595, "ymin": 5729616.1174816275, "xmax": 393332.0456272868, "ymax": 5792710.875256681, "spatialReference": { "wkid": 25832, "latestWkid": 25832, "xyTolerance": 0.001, "zTolerance": 0.001, "mTolerance": 0.001, "falseX": -5120900, "falseY": -9998100, "xyUnits": 10000, "falseZ": -100000, "zUnits": 10000, "falseM": -100000, "mUnits": 10000 } }, "datesInUnknownTimezone": false, "minScale": 1000000, "maxScale": 100, "units": "esriMeters", "supportedImageFormatTypes": "PNG32,PNG24,PNG,JPG,DIB,TIFF,EMF,PS,PDF,GIF,SVG,SVGZ,BMP", "documentInfo": { "Title": "ABK_farbig", "Author": "", "Comments": "

Amtliche Basiskarte farbig<\/SPAN><\/P><\/DIV><\/DIV><\/DIV>", "Subject": "Amtliche Basiskarte farbig", "Category": "", "Version": "2.8.0", "AntialiasingMode": "Fast", "TextAntialiasingMode": "Force", "Keywords": "ABK,farbig" }, "supportsQueryDomains": true, "capabilities": "Map,Query,Data", "supportedQueryFormats": "JSON, geoJSON, PBF", "exportTilesAllowed": false, "referenceScale": 0.0, "datumTransformations": [ { "geoTransforms": [ { "wkid": 108207, "latestWkid": 108207, "transformForward": false, "name": "DHDN_To_WGS_1984_4x" }, { "wkid": 1779, "latestWkid": 1779, "transformForward": true, "name": "DHDN_To_ETRS_1989_4" } ] }, { "geoTransforms": [ { "wkid": 1779, "latestWkid": 1779, "transformForward": false, "name": "DHDN_To_ETRS_1989_4" }, { "wkid": 108207, "latestWkid": 108207, "transformForward": true, "name": "DHDN_To_WGS_1984_4x" } ] } ], "supportsDatumTransformation": true, "archivingInfo": {"supportsHistoricMoment": false}, "supportsClipping": true, "supportsSpatialFilter": true, "supportsTimeRelation": true, "supportsQueryDataElements": true, "mapUnits": {"uwkid": 9001}, "maxRecordCount": 2000, "maxImageHeight": 4096, "maxImageWidth": 4096, "supportedExtensions": "", "resampling": true, "serviceItemId": "74bac0dc585b4cd2871e6d0c7d33b9d1" }