HK25UR Historische Karte um 1842<\/span><\/p><\/div><\/div>",
"mapName": "HK25UR",
"description": "HK25UR Historische Karte um 1842",
"copyrightText": "© Kreis Borken - sämtliche Geodaten sind urheberrechtlich geschützt!<\/a>",
"supportsDynamicLayers": false,
"layers": [
{
"id": 0,
"name": "HK25UR_Historische_Karte_um_1842",
"parentLayerId": -1,
"defaultVisibility": true,
"subLayerIds": null,
"minScale": 0,
"maxScale": 0,
"type": "Feature Layer",
"geometryType": "esriGeometryPolygon",
"supportsDynamicLegends": true
}
],
"tables": [],
"spatialReference": {
"wkid": 25832,
"latestWkid": 25832,
"xyTolerance": 0.001,
"zTolerance": 0.001,
"mTolerance": 0.001,
"falseX": -5120900,
"falseY": -9998100,
"xyUnits": 4.504455473910538E8,
"falseZ": -100000,
"zUnits": 10000,
"falseM": -100000,
"mUnits": 10000
},
"singleFusedMapCache": true,
"tileInfo": {
"rows": 512,
"cols": 512,
"dpi": 96,
"format": "JPEG",
"compressionQuality": 75,
"origin": {
"x": -3122500,
"y": 10001000
},
"spatialReference": {
"wkid": 25832,
"latestWkid": 25832,
"xyTolerance": 0.001,
"zTolerance": 0.001,
"mTolerance": 0.001,
"falseX": -5120900,
"falseY": -9998100,
"xyUnits": 10000,
"falseZ": -100000,
"zUnits": 10000,
"falseM": -100000,
"mUnits": 10000
},
"lods": [
{
"level": 0,
"resolution": 264.5838625010584,
"scale": 1000000
},
{
"level": 1,
"resolution": 132.2919312505292,
"scale": 500000
},
{
"level": 2,
"resolution": 66.1459656252646,
"scale": 250000
},
{
"level": 3,
"resolution": 26.458386250105836,
"scale": 100000
},
{
"level": 4,
"resolution": 13.229193125052918,
"scale": 50000
},
{
"level": 5,
"resolution": 6.614596562526459,
"scale": 25000
},
{
"level": 6,
"resolution": 2.6458386250105836,
"scale": 10000
},
{
"level": 7,
"resolution": 1.3229193125052918,
"scale": 5000
},
{
"level": 8,
"resolution": 0.6614596562526459,
"scale": 2500
},
{
"level": 9,
"resolution": 0.26458386250105836,
"scale": 1000
},
{
"level": 10,
"resolution": 0.13229193125052918,
"scale": 500
}
]
},
"storageInfo": {
"storageFormat": "esriMapCacheStorageModeCompactV2",
"packetSize": 128
},
"initialExtent": {
"xmin": 272811.4968620162,
"ymin": 5738980.28367196,
"xmax": 459520.56416238815,
"ymax": 5783196.674184846,
"spatialReference": {
"wkid": 25832,
"latestWkid": 25832,
"xyTolerance": 0.001,
"zTolerance": 0.001,
"mTolerance": 0.001,
"falseX": -5120900,
"falseY": -9998100,
"xyUnits": 4.504455473910538E8,
"falseZ": -100000,
"zUnits": 10000,
"falseM": -100000,
"mUnits": 10000
}
},
"fullExtent": {
"xmin": 312945.3914927523,
"ymin": 5726623.552323108,
"xmax": 392177.6749573192,
"ymax": 5794618.959147255,
"spatialReference": {
"wkid": 25832,
"latestWkid": 25832,
"xyTolerance": 0.001,
"zTolerance": 0.001,
"mTolerance": 0.001,
"falseX": -5120900,
"falseY": -9998100,
"xyUnits": 4.504455473910538E8,
"falseZ": -100000,
"zUnits": 10000,
"falseM": -100000,
"mUnits": 10000
}
},
"datesInUnknownTimezone": false,
"minScale": 1000000,
"maxScale": 5000,
"units": "esriMeters",
"supportedImageFormatTypes": "PNG32,PNG24,PNG,JPG,DIB,TIFF,EMF,PS,PDF,GIF,SVG,SVGZ,BMP",
"documentInfo": {
"Title": "HK25UR",
"Author": "",
"Comments": "HK25UR Historische Karte um 1842",
"Subject": "HK25UR Historische Karte um 1842",
"Category": "",
"Version": "3.4.0",
"AntialiasingMode": "Fast",
"TextAntialiasingMode": "Force",
"Keywords": "HK25UR,Historische Karte um 1842"
},
"supportsQueryDomains": true,
"capabilities": "Query,Map,Data",
"supportedQueryFormats": "JSON, geoJSON, PBF",
"exportTilesAllowed": false,
"referenceScale": 0.0,
"datumTransformations": [
{
"geoTransforms": [
{
"wkid": 108001,
"latestWkid": 1241,
"transformForward": true,
"name": "NAD_1927_To_NAD_1983_NADCON"
}
]
},
{
"geoTransforms": [
{
"wkid": 108001,
"latestWkid": 1241,
"transformForward": false,
"name": "NAD_1927_To_NAD_1983_NADCON"
}
]
},
{
"geoTransforms": [
{
"wkid": 15948,
"latestWkid": 15948,
"transformForward": true,
"name": "DHDN_To_ETRS_1989_8_NTv2"
}
]
},
{
"geoTransforms": [
{
"wkid": 15948,
"latestWkid": 15948,
"transformForward": false,
"name": "DHDN_To_ETRS_1989_8_NTv2"
}
]
}
],
"supportsDatumTransformation": true,
"archivingInfo": {"supportsHistoricMoment": false},
"supportsClipping": true,
"supportsSpatialFilter": true,
"supportsTimeRelation": true,
"supportsQueryDataElements": true,
"mapUnits": {"uwkid": 9001},
"maxRecordCount": 2000,
"maxImageHeight": 4096,
"maxImageWidth": 4096,
"supportedExtensions": "WMSServer",
"serviceItemId": "cbbdedf980e040669881e923c15629d8"
}