Themen aus der Liegenschaftskarte<\/SPAN><\/P><\/DIV><\/DIV><\/DIV><\/DIV>",
"mapName": "Liegenschaftskarte",
"description": "Themen aus der Liegenschaftskarte",
"copyrightText": "© Kreis Borken - sämtliche Geodaten sind urheberrechtlich geschützt!<\/a>",
"supportsDynamicLayers": false,
"layers": [
{
"id": 1,
"name": "Flurstücke",
"parentLayerId": -1,
"defaultVisibility": true,
"subLayerIds": null,
"minScale": 0,
"maxScale": 0,
"type": "Feature Layer",
"geometryType": "esriGeometryPolygon",
"supportsDynamicLegends": true
}
],
"tables": [],
"spatialReference": {
"wkid": 25832,
"latestWkid": 25832,
"xyTolerance": 0.001,
"zTolerance": 0.001,
"mTolerance": 0.001,
"falseX": -5120900,
"falseY": -9998100,
"xyUnits": 10000,
"falseZ": -100000,
"zUnits": 10000,
"falseM": -100000,
"mUnits": 10000
},
"singleFusedMapCache": true,
"tileInfo": {
"rows": 256,
"cols": 256,
"dpi": 96,
"format": "PNG",
"compressionQuality": 0,
"origin": {
"x": -5120900,
"y": 9998100
},
"spatialReference": {
"wkid": 25832,
"latestWkid": 25832,
"xyTolerance": 0.001,
"zTolerance": 2,
"mTolerance": 0.001,
"falseX": -5120900,
"falseY": -9998100,
"xyUnits": 4.504455473910538E8,
"falseZ": 0,
"zUnits": 1,
"falseM": -100000,
"mUnits": 10000
},
"lods": [
{
"level": 0,
"resolution": 264.5838625010584,
"scale": 1000000
},
{
"level": 1,
"resolution": 132.2919312505292,
"scale": 500000
},
{
"level": 2,
"resolution": 66.1459656252646,
"scale": 250000
},
{
"level": 3,
"resolution": 26.458386250105836,
"scale": 100000
},
{
"level": 4,
"resolution": 13.229193125052918,
"scale": 50000
},
{
"level": 5,
"resolution": 6.614596562526459,
"scale": 25000
},
{
"level": 6,
"resolution": 2.6458386250105836,
"scale": 10000
},
{
"level": 7,
"resolution": 1.3229193125052918,
"scale": 5000
},
{
"level": 8,
"resolution": 0.6614596562526459,
"scale": 2500
},
{
"level": 9,
"resolution": 0.26458386250105836,
"scale": 1000
},
{
"level": 10,
"resolution": 0.13229193125052918,
"scale": 500
}
]
},
"storageInfo": {
"storageFormat": "esriMapCacheStorageModeCompactV2",
"packetSize": 128
},
"initialExtent": {
"xmin": 324755.8522955367,
"ymin": 5730372.733516285,
"xmax": 377057.2837044632,
"ymax": 5792457.166483715,
"spatialReference": {
"wkid": 25832,
"latestWkid": 25832,
"xyTolerance": 0.001,
"zTolerance": 0.001,
"mTolerance": 0.001,
"falseX": -5120900,
"falseY": -9998100,
"xyUnits": 10000,
"falseZ": -100000,
"zUnits": 10000,
"falseM": -100000,
"mUnits": 10000
}
},
"fullExtent": {
"xmin": 320078.8669999996,
"ymin": 5733057.927999999,
"xmax": 381734.2690000003,
"ymax": 5789771.971999999,
"spatialReference": {
"wkid": 25832,
"latestWkid": 25832,
"xyTolerance": 0.001,
"zTolerance": 0.001,
"mTolerance": 0.001,
"falseX": -5120900,
"falseY": -9998100,
"xyUnits": 10000,
"falseZ": -100000,
"zUnits": 10000,
"falseM": -100000,
"mUnits": 10000
}
},
"datesInUnknownTimezone": false,
"minScale": 1000000,
"maxScale": 100,
"units": "esriMeters",
"supportedImageFormatTypes": "PNG32,PNG24,PNG,JPG,DIB,TIFF,EMF,PS,PDF,GIF,SVG,SVGZ,BMP",
"documentInfo": {
"Title": "Liegenschaftskarte",
"Author": "",
"Comments": "Themen aus der Liegenschaftskarte",
"Subject": "Themen aus der Liegenschaftskarte",
"Category": "",
"Version": "3.2.0",
"AntialiasingMode": "Fast",
"TextAntialiasingMode": "Force",
"Keywords": "Flurkarte,Liegenschaftskarte"
},
"supportsQueryDomains": true,
"capabilities": "Map,Query,Data",
"supportedQueryFormats": "JSON, geoJSON, PBF",
"exportTilesAllowed": false,
"referenceScale": 0.0,
"datumTransformations": [
{
"geoTransforms": [
{
"wkid": 108001,
"latestWkid": 1241,
"transformForward": true,
"name": "NAD_1927_To_NAD_1983_NADCON"
}
]
},
{
"geoTransforms": [
{
"wkid": 108001,
"latestWkid": 1241,
"transformForward": false,
"name": "NAD_1927_To_NAD_1983_NADCON"
}
]
},
{
"geoTransforms": [
{
"wkid": 15948,
"latestWkid": 15948,
"transformForward": true,
"name": "DHDN_To_ETRS_1989_8_NTv2"
}
]
},
{
"geoTransforms": [
{
"wkid": 15948,
"latestWkid": 15948,
"transformForward": false,
"name": "DHDN_To_ETRS_1989_8_NTv2"
}
]
}
],
"supportsDatumTransformation": true,
"archivingInfo": {"supportsHistoricMoment": false},
"supportsClipping": true,
"supportsSpatialFilter": true,
"supportsTimeRelation": true,
"supportsQueryDataElements": true,
"mapUnits": {"uwkid": 9001},
"maxRecordCount": 2000,
"maxImageHeight": 4096,
"maxImageWidth": 4096,
"supportedExtensions": "WMSServer",
"resampling": true,
"serviceItemId": "a424cd527bdd43d4a9580a68abf047d1"
}