Stadtpl@n in AdV-Maßstäben<\/SPAN><\/P><\/DIV>",
"mapName": "Stadtplan_AdV",
"description": "Stadtpl@n in AdV-Maßstäben",
"copyrightText": "© Kreis Borken - sämtliche Geodaten sind urheberrechtlich geschützt!<\/a>",
"supportsDynamicLayers": false,
"layers": [
{
"id": 0,
"name": "Stadtplan",
"parentLayerId": -1,
"defaultVisibility": true,
"subLayerIds": null,
"minScale": 0,
"maxScale": 0,
"type": "Feature Layer",
"geometryType": "esriGeometryPolygon",
"supportsDynamicLegends": true
}
],
"tables": [],
"spatialReference": {
"wkid": 25832,
"latestWkid": 25832,
"xyTolerance": 0.001,
"zTolerance": 0.001,
"mTolerance": 0.001,
"falseX": -5120900,
"falseY": -9998100,
"xyUnits": 10000,
"falseZ": -100000,
"zUnits": 10000,
"falseM": -100000,
"mUnits": 10000
},
"singleFusedMapCache": true,
"tileInfo": {
"rows": 256,
"cols": 256,
"dpi": 96,
"format": "PNG32",
"compressionQuality": 0,
"origin": {
"x": -46133.17,
"y": 6301219.54
},
"spatialReference": {
"wkid": 25832,
"latestWkid": 25832,
"xyTolerance": 0.001,
"zTolerance": 0.001,
"mTolerance": 0.001,
"falseX": -5682840.1444100505,
"falseY": -1.0972540311157675E7,
"xyUnits": 4.2009901059884006E8,
"falseZ": -100000,
"zUnits": 10000,
"falseM": -100000,
"mUnits": 10000
},
"lods": [
{
"level": 0,
"resolution": 4891.96981025127,
"scale": 1.74713207508974E7
},
{
"level": 1,
"resolution": 2445.98490512563,
"scale": 8735660.37544869
},
{
"level": 2,
"resolution": 1222.99245256282,
"scale": 4367830.18772435
},
{
"level": 3,
"resolution": 611.496226281409,
"scale": 2183915.09386217
},
{
"level": 4,
"resolution": 305.748113140704,
"scale": 1091957.54693109
},
{
"level": 5,
"resolution": 152.874056570352,
"scale": 545978.773465543
},
{
"level": 6,
"resolution": 76.4370282851761,
"scale": 272989.386732772
},
{
"level": 7,
"resolution": 38.218514142588,
"scale": 136494.693366386
},
{
"level": 8,
"resolution": 19.109257071294,
"scale": 68247.3466831929
},
{
"level": 9,
"resolution": 9.55462853564701,
"scale": 34123.6733415965
},
{
"level": 10,
"resolution": 4.77731426782351,
"scale": 17061.8366707982
},
{
"level": 11,
"resolution": 2.38865713391175,
"scale": 8530.91833539912
},
{
"level": 12,
"resolution": 1.19432856695588,
"scale": 4265.45916769956
},
{
"level": 13,
"resolution": 0.597164283477938,
"scale": 2132.72958384978
},
{
"level": 14,
"resolution": 0.298582141738969,
"scale": 1066.36479192489
},
{
"level": 15,
"resolution": 0.149291070869485,
"scale": 533.182395962445
},
{
"level": 16,
"resolution": 0.0746455354347423,
"scale": 266.591197981222
}
]
},
"storageInfo": {
"storageFormat": "esriMapCacheStorageModeCompactV2",
"packetSize": 128
},
"initialExtent": {
"xmin": 221614.30529224154,
"ymin": 5588262.8417148655,
"xmax": 530369.9874077586,
"ymax": 5884108.878585135,
"spatialReference": {
"wkid": 25832,
"latestWkid": 25832,
"xyTolerance": 0.001,
"zTolerance": 0.001,
"mTolerance": 0.001,
"falseX": -5120900,
"falseY": -9998100,
"xyUnits": 10000,
"falseZ": -100000,
"zUnits": 10000,
"falseM": -100000,
"mUnits": 10000
}
},
"fullExtent": {
"xmin": 222646.83727432962,
"ymin": 5651984.79870158,
"xmax": 512630.7505754896,
"ymax": 5871324.820714957,
"spatialReference": {
"wkid": 25832,
"latestWkid": 25832,
"xyTolerance": 0.001,
"zTolerance": 0.001,
"mTolerance": 0.001,
"falseX": -5120900,
"falseY": -9998100,
"xyUnits": 10000,
"falseZ": -100000,
"zUnits": 10000,
"falseM": -100000,
"mUnits": 10000
}
},
"datesInUnknownTimezone": false,
"minScale": 1091957.54693109,
"maxScale": 266.59119798122,
"units": "esriMeters",
"supportedImageFormatTypes": "PNG32,PNG24,PNG,JPG,DIB,TIFF,EMF,PS,PDF,GIF,SVG,SVGZ,BMP",
"documentInfo": {
"Title": "Stadtplan_AdV",
"Author": "",
"Comments": "Stadtpl@n in AdV-Maßstäben",
"Subject": "Stadtpl@n in AdV-Maßstäben",
"Category": "",
"Version": "3.2.0",
"AntialiasingMode": "Fast",
"TextAntialiasingMode": "Force",
"Keywords": "Stadtpl@n"
},
"supportsQueryDomains": true,
"capabilities": "Map,Query,Data",
"supportedQueryFormats": "JSON, geoJSON, PBF",
"exportTilesAllowed": false,
"referenceScale": 0.0,
"supportsDatumTransformation": true,
"archivingInfo": {"supportsHistoricMoment": false},
"supportsClipping": true,
"supportsSpatialFilter": true,
"supportsTimeRelation": true,
"supportsQueryDataElements": true,
"mapUnits": {"uwkid": 9001},
"maxRecordCount": 2000,
"maxImageHeight": 4096,
"maxImageWidth": 4096,
"supportedExtensions": "",
"resampling": true,
"serviceItemId": "449159bb88c345599df85affcbc5e6fe"
}