{ "currentVersion": 10.71, "cimVersion": "2.4.0", "serviceDescription": "

Knotenpunktsystem_Webkarte<\/SPAN><\/P><\/DIV><\/DIV><\/DIV><\/DIV>", "mapName": "Knotenpunktsystem_Webkarte", "description": "

Knotenpunktsystem_Webkarte<\/SPAN><\/P><\/DIV><\/DIV><\/DIV><\/DIV>", "copyrightText": "© Kreis Borken - sämtliche Geodaten sind urheberrechtlich geschützt!<\/a>", "supportsDynamicLayers": false, "layers": [], "tables": [], "spatialReference": { "wkid": 25832, "latestWkid": 25832, "xyTolerance": 0.001, "zTolerance": 0.001, "mTolerance": 0.001, "falseX": -5120900, "falseY": -9998100, "xyUnits": 10000, "falseZ": -100000, "zUnits": 10000, "falseM": -100000, "mUnits": 10000 }, "singleFusedMapCache": true, "tileInfo": { "rows": 256, "cols": 256, "dpi": 96, "format": "PNG32", "compressionQuality": 0, "origin": { "x": -3122500, "y": 10001000 }, "spatialReference": { "wkid": 25832, "latestWkid": 25832, "xyTolerance": 0.001, "zTolerance": 0.001, "mTolerance": 0.001, "falseX": -5120900, "falseY": -9998100, "xyUnits": 10000, "falseZ": -100000, "zUnits": 10000, "falseM": -100000, "mUnits": 10000 }, "lods": [ { "level": 0, "resolution": 264.5838625010584, "scale": 1000000 }, { "level": 1, "resolution": 132.2919312505292, "scale": 500000 }, { "level": 2, "resolution": 66.1459656252646, "scale": 250000 }, { "level": 3, "resolution": 26.458386250105836, "scale": 100000 }, { "level": 4, "resolution": 13.229193125052918, "scale": 50000 }, { "level": 5, "resolution": 6.614596562526459, "scale": 25000 }, { "level": 6, "resolution": 2.6458386250105836, "scale": 10000 } ] }, "initialExtent": { "xmin": 100125.96840669477, "ymin": 5542378.1809, "xmax": 651858.3242933054, "ymax": 5929993.5394, "spatialReference": { "wkid": 25832, "latestWkid": 25832, "xyTolerance": 0.001, "zTolerance": 0.001, "mTolerance": 0.001, "falseX": -5120900, "falseY": -9998100, "xyUnits": 10000, "falseZ": -100000, "zUnits": 10000, "falseM": -100000, "mUnits": 10000 } }, "fullExtent": { "xmin": "NaN", "ymin": "NaN", "xmax": "NaN", "ymax": "NaN", "spatialReference": { "wkid": 25832, "latestWkid": 25832, "xyTolerance": 0.001, "zTolerance": 0.001, "mTolerance": 0.001, "falseX": -5120900, "falseY": -9998100, "xyUnits": 10000, "falseZ": -100000, "zUnits": 10000, "falseM": -100000, "mUnits": 10000 } }, "minScale": 1000000, "maxScale": 10000, "units": "esriMeters", "supportedImageFormatTypes": "PNG32,PNG24,PNG,JPG,DIB,TIFF,EMF,PS,PDF,GIF,SVG,SVGZ,BMP", "documentInfo": { "Title": "Knotenpunktsystem_Webkarte", "Author": "", "Comments": "

Knotenpunktsystem_Webkarte<\/SPAN><\/P><\/DIV><\/DIV><\/DIV><\/DIV>", "Subject": "Knotenpunktsystem_Webkarte", "Category": "", "AntialiasingMode": "Fast", "TextAntialiasingMode": "Force", "Keywords": "Knotenpunktsystem_Webkarte" }, "capabilities": "Query,Map,Data", "supportedQueryFormats": "JSON, geoJSON, PBF", "exportTilesAllowed": false, "datumTransformations": [ { "geoTransforms": [ { "wkid": 108001, "latestWkid": 1241, "transformForward": true, "name": "NAD_1927_To_NAD_1983_NADCON" } ] }, { "geoTransforms": [ { "wkid": 108001, "latestWkid": 1241, "transformForward": false, "name": "NAD_1927_To_NAD_1983_NADCON" } ] }, { "geoTransforms": [ { "wkid": 15948, "latestWkid": 15948, "transformForward": true, "name": "DHDN_To_ETRS_1989_8_NTv2" } ] }, { "geoTransforms": [ { "wkid": 15948, "latestWkid": 15948, "transformForward": false, "name": "DHDN_To_ETRS_1989_8_NTv2" } ] } ], "supportsDatumTransformation": true, "archivingInfo": {"supportsHistoricMoment": false}, "maxRecordCount": 2000, "maxImageHeight": 4096, "maxImageWidth": 4096, "supportedExtensions": "" }