{ "currentVersion": 10.71, "cimVersion": "2.4.0", "serviceDescription": "

Basisk@rte <\/SPAN>des<\/SPAN> <\/SPAN>Kreis<\/SPAN>es<\/SPAN> Borken<\/SPAN> in ETRS89 mit AdV-Maßstäben<\/SPAN><\/P><\/DIV><\/DIV><\/DIV>", "mapName": "Basiskarte_Kreis_Borken_AdV", "description": "

Basisk@rte <\/SPAN>des<\/SPAN> <\/SPAN>Kreis<\/SPAN>es<\/SPAN> Borken<\/SPAN> in ETRS89 mit AdV-Maßstäben<\/SPAN><\/P><\/DIV><\/DIV><\/DIV>", "copyrightText": "© Kreis Borken - sämtliche Geodaten sind urheberrechtlich geschützt!<\/a>", "supportsDynamicLayers": false, "layers": [], "tables": [], "spatialReference": { "wkid": 25832, "latestWkid": 25832, "xyTolerance": 0.001, "zTolerance": 0.001, "mTolerance": 0.001, "falseX": -5120900, "falseY": -9998100, "xyUnits": 10000, "falseZ": -100000, "zUnits": 10000, "falseM": -100000, "mUnits": 10000 }, "singleFusedMapCache": true, "tileInfo": { "rows": 256, "cols": 256, "dpi": 96, "format": "PNG32", "compressionQuality": 0, "origin": { "x": -46133.17, "y": 6301219.54 }, "spatialReference": { "wkid": 25832, "latestWkid": 25832, "xyTolerance": 0.001, "zTolerance": 0.001, "mTolerance": 0.001, "falseX": -5682840.1444100505, "falseY": -1.0972540311157675E7, "xyUnits": 4.2009901059884006E8, "falseZ": -100000, "zUnits": 10000, "falseM": -100000, "mUnits": 10000 }, "lods": [ { "level": 0, "resolution": 4891.96981025127, "scale": 1.74713207508974E7 }, { "level": 1, "resolution": 2445.98490512563, "scale": 8735660.37544869 }, { "level": 2, "resolution": 1222.99245256282, "scale": 4367830.18772435 }, { "level": 3, "resolution": 611.496226281409, "scale": 2183915.09386217 }, { "level": 4, "resolution": 305.748113140704, "scale": 1091957.54693109 }, { "level": 5, "resolution": 152.874056570352, "scale": 545978.773465543 }, { "level": 6, "resolution": 76.4370282851761, "scale": 272989.386732772 }, { "level": 7, "resolution": 38.218514142588, "scale": 136494.693366386 }, { "level": 8, "resolution": 19.109257071294, "scale": 68247.3466831929 }, { "level": 9, "resolution": 9.55462853564701, "scale": 34123.6733415965 }, { "level": 10, "resolution": 4.77731426782351, "scale": 17061.8366707982 }, { "level": 11, "resolution": 2.38865713391175, "scale": 8530.91833539912 }, { "level": 12, "resolution": 1.19432856695588, "scale": 4265.45916769956 }, { "level": 13, "resolution": 0.597164283477938, "scale": 2132.72958384978 }, { "level": 14, "resolution": 0.298582141738969, "scale": 1066.36479192489 }, { "level": 15, "resolution": 0.149291070869485, "scale": 533.182395962445 }, { "level": 16, "resolution": 0.0746455354347423, "scale": 266.591197981222 } ] }, "initialExtent": { "xmin": 174095.3700055419, "ymin": 5655519.180553191, "xmax": 535238.4516667053, "ymax": 5895029.272310874, "spatialReference": { "wkid": 25832, "latestWkid": 25832, "xyTolerance": 0.001, "zTolerance": 0.001, "mTolerance": 0.001, "falseX": -5120900, "falseY": -9998100, "xyUnits": 10000, "falseZ": -100000, "zUnits": 10000, "falseM": -100000, "mUnits": 10000 } }, "fullExtent": { "xmin": 179538.6283999998, "ymin": 5542378.1809, "xmax": 572445.6642999998, "ymax": 5929993.5394, "spatialReference": { "wkid": 25832, "latestWkid": 25832, "xyTolerance": 0.001, "zTolerance": 0.001, "mTolerance": 0.001, "falseX": -5120900, "falseY": -9998100, "xyUnits": 10000, "falseZ": -100000, "zUnits": 10000, "falseM": -100000, "mUnits": 10000 } }, "minScale": 1091957.54693109, "maxScale": 1066.36479192489, "units": "esriMeters", "supportedImageFormatTypes": "PNG32,PNG24,PNG,JPG,DIB,TIFF,EMF,PS,PDF,GIF,SVG,SVGZ,BMP", "documentInfo": { "Title": "Basisk@rte Kreis Borken AdV", "Author": "", "Comments": "

Basisk@rte <\/SPAN>des<\/SPAN> <\/SPAN>Kreis<\/SPAN>es<\/SPAN> Borken<\/SPAN> in ETRS89 mit AdV-Maßstäben<\/SPAN><\/P><\/DIV><\/DIV><\/DIV>", "Subject": "Basisk@rte Projektgebiet Kreis Borken in ETRS89 mit AdV-Maßstäben", "Category": "", "AntialiasingMode": "Fast", "TextAntialiasingMode": "Force", "Keywords": "Basiskarte AdV" }, "capabilities": "Query,Map,Data", "supportedQueryFormats": "JSON, geoJSON, PBF", "exportTilesAllowed": false, "datumTransformations": [ { "geoTransforms": [ { "wkid": 1149, "latestWkid": 1149, "transformForward": false, "name": "ETRS_1989_To_WGS_1984" } ] }, { "geoTransforms": [ { "wkid": 1149, "latestWkid": 1149, "transformForward": true, "name": "ETRS_1989_To_WGS_1984" } ] } ], "supportsDatumTransformation": true, "archivingInfo": {"supportsHistoricMoment": false}, "maxRecordCount": 2000, "maxImageHeight": 4096, "maxImageWidth": 4096, "supportedExtensions": "" }