{ "currentVersion": 10.71, "cimVersion": "2.4.0", "serviceDescription": "

Basisk@rte <\/SPAN>des<\/SPAN> <\/SPAN>Kreis<\/SPAN>es<\/SPAN> Borken<\/SPAN> <\/SPAN><\/P><\/DIV><\/DIV><\/DIV>", "mapName": "Basiskarte_Kreis_Borken_AdV_dynBeschriftung", "description": "

Basisk@rte <\/SPAN>des<\/SPAN> <\/SPAN>Kreis<\/SPAN>es<\/SPAN> Borken<\/SPAN> <\/SPAN><\/P><\/DIV><\/DIV><\/DIV>", "copyrightText": "© Kreis Borken - sämtliche Geodaten sind urheberrechtlich geschützt!<\/a>", "supportsDynamicLayers": false, "layers": [ { "id": 1, "name": "Grenzen", "parentLayerId": -1, "defaultVisibility": true, "subLayerIds": [ 2, 3, 4, 5, 6 ], "minScale": 0, "maxScale": 0, "type": "Group Layer", "supportsDynamicLegends": false }, { "id": 7, "name": "Beschriftung aus FeatureClass", "parentLayerId": -1, "defaultVisibility": true, "subLayerIds": [ 8, 15, 22, 31, 45, 60, 75, 90, 102, 114, 126, 138, 139, 140 ], "minScale": 0, "maxScale": 0, "type": "Group Layer", "supportsDynamicLegends": false }, { "id": 8, "name": "1:1.155.581", "parentLayerId": 7, "defaultVisibility": true, "subLayerIds": [ 9, 10, 11, 12, 13, 14 ], "minScale": 0, "maxScale": 577790.55428878, "type": "Group Layer", "supportsDynamicLegends": false }, { "id": 9, "name": "Gemeinden KBOR 1Mio", "parentLayerId": 8, "defaultVisibility": true, "subLayerIds": null, "minScale": 0, "maxScale": 0, "type": "Feature Layer", "geometryType": "esriGeometryPoint", "supportsDynamicLegends": true }, { "id": 10, "name": "Gemeinden NRW 1Mio", "parentLayerId": 8, "defaultVisibility": true, "subLayerIds": null, "minScale": 0, "maxScale": 0, "type": "Feature Layer", "geometryType": "esriGeometryPoint", "supportsDynamicLegends": true }, { "id": 15, "name": "1:577.791", "parentLayerId": 7, "defaultVisibility": true, "subLayerIds": [ 16, 17, 18, 19, 20, 21 ], "minScale": 577790.55428878, "maxScale": 288895.27714439, "type": "Group Layer", "supportsDynamicLegends": false }, { "id": 16, "name": "Gemeinden KBOR 500T", "parentLayerId": 15, "defaultVisibility": true, "subLayerIds": null, "minScale": 0, "maxScale": 0, "type": "Feature Layer", "geometryType": "esriGeometryPoint", "supportsDynamicLegends": true }, { "id": 17, "name": "Gemeinden NRW 500T", "parentLayerId": 15, "defaultVisibility": true, "subLayerIds": null, "minScale": 0, "maxScale": 0, "type": "Feature Layer", "geometryType": "esriGeometryPoint", "supportsDynamicLegends": true }, { "id": 22, "name": "1:288.895", "parentLayerId": 7, "defaultVisibility": true, "subLayerIds": [ 23, 24, 25, 26, 27, 28, 29, 30 ], "minScale": 288895.27714439, "maxScale": 144447.6385722, "type": "Group Layer", "supportsDynamicLegends": false }, { "id": 23, "name": "Gemeinden KBOR 250T", "parentLayerId": 22, "defaultVisibility": true, "subLayerIds": null, "minScale": 0, "maxScale": 0, "type": "Feature Layer", "geometryType": "esriGeometryPoint", "supportsDynamicLegends": true }, { "id": 24, "name": "Ortslagen KBOR 250T", "parentLayerId": 22, "defaultVisibility": true, "subLayerIds": null, "minScale": 0, "maxScale": 0, "type": "Feature Layer", "geometryType": "esriGeometryPoint", "supportsDynamicLegends": true }, { "id": 25, "name": "Gemeinden NRW 250T", "parentLayerId": 22, "defaultVisibility": true, "subLayerIds": null, "minScale": 0, "maxScale": 0, "type": "Feature Layer", "geometryType": "esriGeometryPoint", "supportsDynamicLegends": true }, { "id": 26, "name": "Ortslagen NRW 250T", "parentLayerId": 22, "defaultVisibility": true, "subLayerIds": null, "minScale": 0, "maxScale": 0, "type": "Feature Layer", "geometryType": "esriGeometryPoint", "supportsDynamicLegends": true }, { "id": 31, "name": "1:144.448", "parentLayerId": 7, "defaultVisibility": true, "subLayerIds": [ 32, 33, 34, 35, 36, 37, 38, 39, 40, 41, 42, 43, 44 ], "minScale": 144447.6385722, "maxScale": 72223.8192861, "type": "Group Layer", "supportsDynamicLegends": false }, { "id": 32, "name": "Gemeinden KBOR 100T", "parentLayerId": 31, "defaultVisibility": true, "subLayerIds": null, "minScale": 0, "maxScale": 0, "type": "Feature Layer", "geometryType": "esriGeometryPoint", "supportsDynamicLegends": true }, { "id": 33, "name": "Ortslagen KBOR 100T", "parentLayerId": 31, "defaultVisibility": true, "subLayerIds": null, "minScale": 0, "maxScale": 0, "type": "Feature Layer", "geometryType": "esriGeometryPoint", "supportsDynamicLegends": true }, { "id": 34, "name": "Gemeinden NRW 100T", "parentLayerId": 31, "defaultVisibility": true, "subLayerIds": null, "minScale": 0, "maxScale": 0, "type": "Feature Layer", "geometryType": "esriGeometryPoint", "supportsDynamicLegends": true }, { "id": 35, "name": "Ortslagen NRW 100T", "parentLayerId": 31, "defaultVisibility": true, "subLayerIds": null, "minScale": 0, "maxScale": 0, "type": "Feature Layer", "geometryType": "esriGeometryPoint", "supportsDynamicLegends": true }, { "id": 45, "name": "1:72.224", "parentLayerId": 7, "defaultVisibility": true, "subLayerIds": [ 46, 47, 48, 49, 50, 51, 52, 53, 54, 55, 56, 57, 58, 59 ], "minScale": 72223.8192861, "maxScale": 36111.90964305, "type": "Group Layer", "supportsDynamicLegends": false }, { "id": 46, "name": "Gemeinden KBOR 50T", "parentLayerId": 45, "defaultVisibility": true, "subLayerIds": null, "minScale": 0, "maxScale": 0, "type": "Feature Layer", "geometryType": "esriGeometryPoint", "supportsDynamicLegends": true }, { "id": 47, "name": "Ortslagen KBOR 50T", "parentLayerId": 45, "defaultVisibility": true, "subLayerIds": null, "minScale": 0, "maxScale": 0, "type": "Feature Layer", "geometryType": "esriGeometryPoint", "supportsDynamicLegends": true }, { "id": 48, "name": "Gemeinden NRW 50T", "parentLayerId": 45, "defaultVisibility": true, "subLayerIds": null, "minScale": 0, "maxScale": 0, "type": "Feature Layer", "geometryType": "esriGeometryPoint", "supportsDynamicLegends": true }, { "id": 49, "name": "Ortslagen NRW 50T", "parentLayerId": 45, "defaultVisibility": true, "subLayerIds": null, "minScale": 0, "maxScale": 0, "type": "Feature Layer", "geometryType": "esriGeometryPoint", "supportsDynamicLegends": true }, { "id": 60, "name": "1:36.112", "parentLayerId": 7, "defaultVisibility": true, "subLayerIds": [ 61, 62, 63, 64, 65, 66, 67, 68, 69, 70, 71, 72, 73, 74 ], "minScale": 36111.90964305, "maxScale": 18055.95482152, "type": "Group Layer", "supportsDynamicLegends": false }, { "id": 61, "name": "Gemeinden KBOR 25T", "parentLayerId": 60, "defaultVisibility": true, "subLayerIds": null, "minScale": 0, "maxScale": 0, "type": "Feature Layer", "geometryType": "esriGeometryPoint", "supportsDynamicLegends": true }, { "id": 62, "name": "Ortslagen KBOR 25T", "parentLayerId": 60, "defaultVisibility": true, "subLayerIds": null, "minScale": 0, "maxScale": 0, "type": "Feature Layer", "geometryType": "esriGeometryPoint", "supportsDynamicLegends": true }, { "id": 63, "name": "Gemeinden NRW 25T", "parentLayerId": 60, "defaultVisibility": true, "subLayerIds": null, "minScale": 0, "maxScale": 0, "type": "Feature Layer", "geometryType": "esriGeometryPoint", "supportsDynamicLegends": true }, { "id": 64, "name": "Ortslagen NRW 25T", "parentLayerId": 60, "defaultVisibility": true, "subLayerIds": null, "minScale": 0, "maxScale": 0, "type": "Feature Layer", "geometryType": "esriGeometryPoint", "supportsDynamicLegends": true }, { "id": 75, "name": "1:18.056", "parentLayerId": 7, "defaultVisibility": true, "subLayerIds": [ 76, 77, 78, 79, 80, 81, 82, 83, 84, 85, 86, 87, 88, 89 ], "minScale": 18055.95482152, "maxScale": 9027.97741076, "type": "Group Layer", "supportsDynamicLegends": false }, { "id": 76, "name": "Gemeinden KBOR 10T", "parentLayerId": 75, "defaultVisibility": true, "subLayerIds": null, "minScale": 0, "maxScale": 0, "type": "Feature Layer", "geometryType": "esriGeometryPoint", "supportsDynamicLegends": true }, { "id": 77, "name": "Ortslagen KBOR 10T", "parentLayerId": 75, "defaultVisibility": true, "subLayerIds": null, "minScale": 0, "maxScale": 0, "type": "Feature Layer", "geometryType": "esriGeometryPoint", "supportsDynamicLegends": true }, { "id": 78, "name": "Gemeinden NRW 10T", "parentLayerId": 75, "defaultVisibility": true, "subLayerIds": null, "minScale": 0, "maxScale": 0, "type": "Feature Layer", "geometryType": "esriGeometryPoint", "supportsDynamicLegends": true }, { "id": 79, "name": "Ortslagen NRW 10T", "parentLayerId": 75, "defaultVisibility": true, "subLayerIds": null, "minScale": 0, "maxScale": 0, "type": "Feature Layer", "geometryType": "esriGeometryPoint", "supportsDynamicLegends": true }, { "id": 90, "name": "1:9.028", "parentLayerId": 7, "defaultVisibility": true, "subLayerIds": [ 91, 92, 93, 94, 95, 96, 97, 98, 99, 100, 101 ], "minScale": 9027.97741076, "maxScale": 4513.98870538, "type": "Group Layer", "supportsDynamicLegends": false }, { "id": 102, "name": "1:4.514", "parentLayerId": 7, "defaultVisibility": true, "subLayerIds": [ 103, 104, 105, 106, 107, 108, 109, 110, 111, 112, 113 ], "minScale": 4513.98870538, "maxScale": 2256.99435269, "type": "Group Layer", "supportsDynamicLegends": false }, { "id": 114, "name": "1:2.257", "parentLayerId": 7, "defaultVisibility": true, "subLayerIds": [ 115, 116, 117, 118, 119, 120, 121, 122, 123, 124, 125 ], "minScale": 2256.99435269, "maxScale": 1128, "type": "Group Layer", "supportsDynamicLegends": false }, { "id": 126, "name": "1:1.128", "parentLayerId": 7, "defaultVisibility": true, "subLayerIds": [ 127, 128, 129, 130, 131, 132, 133, 134, 135, 136, 137 ], "minScale": 1128, "maxScale": 0, "type": "Group Layer", "supportsDynamicLegends": false }, { "id": 138, "name": "Hausnummern_ALKIS_OSM_Gebiet", "parentLayerId": 7, "defaultVisibility": true, "subLayerIds": null, "minScale": 0, "maxScale": 0, "type": "Feature Layer", "geometryType": "esriGeometryPoint", "supportsDynamicLegends": true }, { "id": 139, "name": "Hausnummern_ALKIS_OSM", "parentLayerId": 7, "defaultVisibility": true, "subLayerIds": null, "minScale": 0, "maxScale": 0, "type": "Feature Layer", "geometryType": "esriGeometryPoint", "supportsDynamicLegends": true }, { "id": 141, "name": "Verkehr und Gebäude", "parentLayerId": -1, "defaultVisibility": true, "subLayerIds": [ 142, 143, 144, 145, 146, 147, 148, 149, 150, 155 ], "minScale": 0, "maxScale": 0, "type": "Group Layer", "supportsDynamicLegends": false }, { "id": 150, "name": "Gebäude und Hausnummern", "parentLayerId": 141, "defaultVisibility": true, "subLayerIds": [ 151 ], "minScale": 0, "maxScale": 0, "type": "Group Layer", "supportsDynamicLegends": false }, { "id": 151, "name": "Gebäude", "parentLayerId": 150, "defaultVisibility": true, "subLayerIds": [ 152, 153, 154 ], "minScale": 0, "maxScale": 0, "type": "Group Layer", "supportsDynamicLegends": false }, { "id": 152, "name": "Gebäude BOR", "parentLayerId": 151, "defaultVisibility": true, "subLayerIds": null, "minScale": 0, "maxScale": 0, "type": "Feature Layer", "geometryType": "esriGeometryPolygon", "supportsDynamicLegends": true }, { "id": 153, "name": "ALKIS_Hausumringe_Nachbarkreise", "parentLayerId": 151, "defaultVisibility": true, "subLayerIds": null, "minScale": 0, "maxScale": 0, "type": "Feature Layer", "geometryType": "esriGeometryPolygon", "supportsDynamicLegends": true }, { "id": 156, "name": "Thema Gewässer", "parentLayerId": -1, "defaultVisibility": true, "subLayerIds": [ 157, 158, 159, 160 ], "minScale": 0, "maxScale": 0, "type": "Group Layer", "supportsDynamicLegends": false }, { "id": 161, "name": "Thema Siedlung und Vegetation ", "parentLayerId": -1, "defaultVisibility": true, "subLayerIds": [ 162, 170, 180 ], "minScale": 0, "maxScale": 0, "type": "Group Layer", "supportsDynamicLegends": false }, { "id": 162, "name": "Thema Vegetation", "parentLayerId": 161, "defaultVisibility": true, "subLayerIds": [ 163, 164, 165, 166, 167, 168, 169 ], "minScale": 0, "maxScale": 0, "type": "Group Layer", "supportsDynamicLegends": false }, { "id": 170, "name": "Thema Siedlung", "parentLayerId": 161, "defaultVisibility": true, "subLayerIds": [ 171, 172, 173, 174, 175, 176, 177, 178, 179 ], "minScale": 0, "maxScale": 0, "type": "Group Layer", "supportsDynamicLegends": false }, { "id": 180, "name": "Thema Hintergrund", "parentLayerId": 161, "defaultVisibility": true, "subLayerIds": [ 181, 182 ], "minScale": 0, "maxScale": 0, "type": "Group Layer", "supportsDynamicLegends": false }, { "id": 183, "name": "Hintergrund + DGM", "parentLayerId": -1, "defaultVisibility": true, "subLayerIds": [ 184, 185, 188 ], "minScale": 0, "maxScale": 0, "type": "Group Layer", "supportsDynamicLegends": false }, { "id": 185, "name": "Hintergrund", "parentLayerId": 183, "defaultVisibility": true, "subLayerIds": [ 186, 187 ], "minScale": 0, "maxScale": 0, "type": "Group Layer", "supportsDynamicLegends": false }, { "id": 188, "name": "DGM", "parentLayerId": 183, "defaultVisibility": true, "subLayerIds": [ 189, 190, 193, 196 ], "minScale": 0, "maxScale": 0, "type": "Group Layer", "supportsDynamicLegends": false }, { "id": 190, "name": "DGM5_NRW 10T", "parentLayerId": 188, "defaultVisibility": true, "subLayerIds": [ 191, 192 ], "minScale": 18055.95482152, "maxScale": 9027.97741076, "type": "Group Layer", "supportsDynamicLegends": false }, { "id": 193, "name": "DGM5_NRW 25T-250T", "parentLayerId": 188, "defaultVisibility": true, "subLayerIds": [ 194, 195 ], "minScale": 288895.27714439, "maxScale": 18055.95482152, "type": "Group Layer", "supportsDynamicLegends": false } ], "tables": [], "spatialReference": { "wkid": 25832, "latestWkid": 25832, "xyTolerance": 0.001, "zTolerance": 0.001, "mTolerance": 0.001, "falseX": -5120900, "falseY": -9998100, "xyUnits": 10000, "falseZ": -100000, "zUnits": 10000, "falseM": -100000, "mUnits": 10000 }, "singleFusedMapCache": true, "tileInfo": { "rows": 256, "cols": 256, "dpi": 96, "format": "PNG32", "compressionQuality": 0, "origin": { "x": -46133.17, "y": 6301219.54 }, "spatialReference": { "wkid": 25832, "latestWkid": 25832, "xyTolerance": 0.001, "zTolerance": 0.001, "mTolerance": 0.001, "falseX": -5682840.1444100505, "falseY": -1.0972540311157675E7, "xyUnits": 4.2009901059884006E8, "falseZ": -100000, "zUnits": 10000, "falseM": -100000, "mUnits": 10000 }, "lods": [ { "level": 0, "resolution": 4891.979594210456, "scale": 1.84893347159103E7 }, { "level": 1, "resolution": 2445.9897971052333, "scale": 9244667.35795517 }, { "level": 2, "resolution": 1222.9948985526178, "scale": 4622333.67897759 }, { "level": 3, "resolution": 611.4974492763076, "scale": 2311166.83948879 }, { "level": 4, "resolution": 305.7487246381551, "scale": 1155583.4197444 }, { "level": 5, "resolution": 152.87436231907702, "scale": 577791.709872198 }, { "level": 6, "resolution": 76.43718115953851, "scale": 288895.854936099 }, { "level": 7, "resolution": 38.21859057976939, "scale": 144447.92746805 }, { "level": 8, "resolution": 19.109295289884642, "scale": 72223.9637340248 }, { "level": 9, "resolution": 9.554647644942321, "scale": 36111.9818670124 }, { "level": 10, "resolution": 4.7773238224711605, "scale": 18055.9909335062 }, { "level": 11, "resolution": 2.3886619112355802, "scale": 9027.9954667531 }, { "level": 12, "resolution": 1.1943309556178034, "scale": 4513.9977333766 }, { "level": 13, "resolution": 0.5971654778089017, "scale": 2256.9988666883 }, { "level": 14, "resolution": 0.29858273890445086, "scale": 1128.49943334415 }, { "level": 15, "resolution": 0.14929136945222543, "scale": 564.249716672075 } ] }, "initialExtent": { "xmin": 328087.09049389925, "ymin": 5736369.444985941, "xmax": 379096.0135839363, "ymax": 5786710.394083133, "spatialReference": { "wkid": 25832, "latestWkid": 25832, "xyTolerance": 0.001, "zTolerance": 0.001, "mTolerance": 0.001, "falseX": -5120900, "falseY": -9998100, "xyUnits": 10000, "falseZ": -100000, "zUnits": 10000, "falseM": -100000, "mUnits": 10000 } }, "fullExtent": { "xmin": 280401.17399999965, "ymin": 5577932.899, "xmax": 530600.0672000004, "ymax": 5874135.128799999, "spatialReference": { "wkid": 25832, "latestWkid": 25832, "xyTolerance": 0.001, "zTolerance": 0.001, "mTolerance": 0.001, "falseX": -5120900, "falseY": -9998100, "xyUnits": 10000, "falseZ": -100000, "zUnits": 10000, "falseM": -100000, "mUnits": 10000 } }, "minScale": 1155583.4197444, "maxScale": 564.249716672075, "units": "esriMeters", "supportedImageFormatTypes": "PNG32,PNG24,PNG,JPG,DIB,TIFF,EMF,PS,PDF,GIF,SVG,SVGZ,BMP", "documentInfo": { "Title": "Basisk@rte Kreis Borken AdV dynamische Beschriftung", "Author": "", "Comments": "

Basisk@rte <\/SPAN>des<\/SPAN> <\/SPAN>Kreis<\/SPAN>es<\/SPAN> Borken<\/SPAN> <\/SPAN><\/P><\/DIV><\/DIV><\/DIV>", "Subject": "Basisk@rte Projektgebiet Kreis Borken", "Category": "", "AntialiasingMode": "Fast", "TextAntialiasingMode": "Force", "Keywords": "Basiskarte" }, "capabilities": "Query,Map,Data", "supportedQueryFormats": "JSON, geoJSON, PBF", "exportTilesAllowed": false, "datumTransformations": [ { "geoTransforms": [ { "wkid": 1149, "latestWkid": 1149, "transformForward": true, "name": "ETRS_1989_To_WGS_1984" } ] }, { "geoTransforms": [ { "wkid": 1149, "latestWkid": 1149, "transformForward": false, "name": "ETRS_1989_To_WGS_1984" } ] } ], "supportsDatumTransformation": true, "archivingInfo": {"supportsHistoricMoment": false}, "maxRecordCount": 2000, "maxImageHeight": 4096, "maxImageWidth": 4096, "supportedExtensions": "" }