{ "currentVersion": 10.71, "cimVersion": "2.4.0", "serviceDescription": "

Basisk@rte <\/span>Abdecker <\/span>Kreis Borken<\/span><\/p><\/div>", "mapName": "Basiskarte_Stadt_Gronau", "description": "", "copyrightText": "© Kreis Borken - sämtliche Geodaten sind urheberrechtlich geschützt!<\/a>", "supportsDynamicLayers": false, "layers": [ { "id": 0, "name": "Basiskarte_Stadt_Gronau", "parentLayerId": -1, "defaultVisibility": true, "subLayerIds": null, "minScale": 0, "maxScale": 0, "type": "Feature Layer", "geometryType": "esriGeometryPolygon", "supportsDynamicLegends": true } ], "tables": [], "spatialReference": { "wkid": 25832, "latestWkid": 25832, "xyTolerance": 0.001, "zTolerance": 0.001, "mTolerance": 0.001, "falseX": -5120900, "falseY": -9998100, "xyUnits": 10000, "falseZ": -100000, "zUnits": 10000, "falseM": -100000, "mUnits": 10000 }, "singleFusedMapCache": true, "tileInfo": { "rows": 256, "cols": 256, "dpi": 96, "format": "PNG32", "compressionQuality": 0, "origin": { "x": -3122500, "y": 10001000 }, "spatialReference": { "wkid": 25832, "latestWkid": 25832, "xyTolerance": 0.001, "zTolerance": 0.001, "mTolerance": 0.001, "falseX": -5120900, "falseY": -9998100, "xyUnits": 10000, "falseZ": -100000, "zUnits": 10000, "falseM": -100000, "mUnits": 10000 }, "lods": [ { "level": 0, "resolution": 264.5838625010584, "scale": 1000000 }, { "level": 1, "resolution": 132.2919312505292, "scale": 500000 }, { "level": 2, "resolution": 66.1459656252646, "scale": 250000 }, { "level": 3, "resolution": 26.458386250105836, "scale": 100000 }, { "level": 4, "resolution": 13.229193125052918, "scale": 50000 }, { "level": 5, "resolution": 6.614596562526459, "scale": 25000 }, { "level": 6, "resolution": 2.6458386250105836, "scale": 10000 }, { "level": 7, "resolution": 1.3229193125052918, "scale": 5000 }, { "level": 8, "resolution": 0.6614596562526459, "scale": 2500 }, { "level": 9, "resolution": 0.26458386250105836, "scale": 1000 }, { "level": 10, "resolution": 0.13229193125052918, "scale": 500 } ] }, "initialExtent": { "xmin": 271673.23481233587, "ymin": 5643365.397648606, "xmax": 463834.2968761409, "ymax": 5860990.425586987, "spatialReference": { "wkid": 25832, "latestWkid": 25832, "xyTolerance": 0.001, "zTolerance": 0.001, "mTolerance": 0.001, "falseX": -5120900, "falseY": -9998100, "xyUnits": 10000, "falseZ": -100000, "zUnits": 10000, "falseM": -100000, "mUnits": 10000 } }, "fullExtent": { "xmin": 217070.09149365898, "ymin": 5643365.397648606, "xmax": 518437.44019481784, "ymax": 5860990.425586987, "spatialReference": { "wkid": 25832, "latestWkid": 25832, "xyTolerance": 0.001, "zTolerance": 0.001, "mTolerance": 0.001, "falseX": -5120900, "falseY": -9998100, "xyUnits": 10000, "falseZ": -100000, "zUnits": 10000, "falseM": -100000, "mUnits": 10000 } }, "minScale": 1000000, "maxScale": 500, "units": "esriMeters", "supportedImageFormatTypes": "PNG32,PNG24,PNG,JPG,DIB,TIFF,EMF,PS,PDF,GIF,SVG,SVGZ,BMP", "documentInfo": { "Title": "HiGr_Basiskarte Kreis Borken", "Author": "", "Comments": "

Basisk@rte <\/SPAN>Abdecker <\/SPAN>Kreis Borken<\/SPAN><\/P><\/DIV>", "Subject": "Basisk@rte Kreis Borken", "Category": "", "AntialiasingMode": "Fast", "TextAntialiasingMode": "Force", "Keywords": "Basiskarte,Basisk@rte Stadt Gronau" }, "capabilities": "Map,Query,Data", "supportedQueryFormats": "JSON, geoJSON, PBF", "exportTilesAllowed": false, "supportsDatumTransformation": true, "archivingInfo": {"supportsHistoricMoment": false}, "maxRecordCount": 2000, "maxImageHeight": 4096, "maxImageWidth": 4096, "supportedExtensions": "WMSServer" }