{ "currentVersion": 10.71, "cimVersion": "2.4.0", "serviceDescription": "

Luftbilder Sommer 201<\/span>9<\/span> bis 2020<\/span><\/p><\/div><\/div><\/div>", "mapName": "Luftbilder_Sommer_19_20", "description": "

Luftbilder Sommer 201<\/SPAN>9<\/SPAN> bis 2020<\/SPAN><\/P><\/DIV><\/DIV><\/DIV>", "copyrightText": "© Kreis Borken - sämtliche Geodaten sind urheberrechtlich geschützt!<\/a>", "supportsDynamicLayers": true, "layers": [ { "id": 4, "name": "LB19_20S", "parentLayerId": -1, "defaultVisibility": true, "subLayerIds": [ 5, 6, 7 ], "minScale": 0, "maxScale": 0, "type": "Mosaic Layer", "supportsDynamicLegends": false }, { "id": 5, "name": "Grenze", "parentLayerId": 4, "defaultVisibility": false, "subLayerIds": null, "minScale": 0, "maxScale": 0, "type": "Feature Layer", "geometryType": "esriGeometryPolygon", "supportsDynamicLegends": true }, { "id": 6, "name": "Footprint", "parentLayerId": 4, "defaultVisibility": false, "subLayerIds": null, "minScale": 0, "maxScale": 0, "type": "Feature Layer", "geometryType": "esriGeometryPolygon", "supportsDynamicLegends": true }, { "id": 7, "name": "Bild", "parentLayerId": 4, "defaultVisibility": true, "subLayerIds": null, "minScale": 0, "maxScale": 0, "type": "Raster Layer", "supportsDynamicLegends": false } ], "tables": [], "spatialReference": { "wkid": 25832, "latestWkid": 25832, "xyTolerance": 0.001, "zTolerance": 0.001, "mTolerance": 0.001, "falseX": -5120900, "falseY": -9998100, "xyUnits": 10000, "falseZ": -100000, "zUnits": 10000, "falseM": -100000, "mUnits": 10000 }, "singleFusedMapCache": true, "tileInfo": { "rows": 256, "cols": 256, "dpi": 96, "format": "JPEG", "compressionQuality": 75, "origin": { "x": -3122500, "y": 10001000 }, "spatialReference": { "wkid": 25832, "latestWkid": 25832, "xyTolerance": 0.001, "zTolerance": 0.001, "mTolerance": 0.001, "falseX": -5120900, "falseY": -9998100, "xyUnits": 10000, "falseZ": -100000, "zUnits": 10000, "falseM": -100000, "mUnits": 10000 }, "lods": [ { "level": 0, "resolution": 264.5838625010584, "scale": 1000000 }, { "level": 1, "resolution": 132.2919312505292, "scale": 500000 }, { "level": 2, "resolution": 66.1459656252646, "scale": 250000 }, { "level": 3, "resolution": 26.458386250105836, "scale": 100000 }, { "level": 4, "resolution": 13.229193125052918, "scale": 50000 }, { "level": 5, "resolution": 6.614596562526459, "scale": 25000 }, { "level": 6, "resolution": 2.6458386250105836, "scale": 10000 }, { "level": 7, "resolution": 1.3229193125052918, "scale": 5000 }, { "level": 8, "resolution": 0.6614596562526459, "scale": 2500 }, { "level": 9, "resolution": 0.26458386250105836, "scale": 1000 }, { "level": 10, "resolution": 0.13229193125052918, "scale": 500 }, { "level": 11, "resolution": 0.06614596562526459, "scale": 250 }, { "level": 12, "resolution": 0.026458386250105836, "scale": 100 } ] }, "initialExtent": { "xmin": 304526.7706903009, "ymin": 5708234.513658525, "xmax": 400094.4618256832, "ymax": 5814009.701844417, "spatialReference": { "wkid": 25832, "latestWkid": 25832, "xyTolerance": 0.001, "zTolerance": 0.001, "mTolerance": 0.001, "falseX": -5120900, "falseY": -9998100, "xyUnits": 10000, "falseZ": -100000, "zUnits": 10000, "falseM": -100000, "mUnits": 10000 } }, "fullExtent": { "xmin": 304526.7706903009, "ymin": 5728221.104449464, "xmax": 400094.4618256832, "ymax": 5794023.111053478, "spatialReference": { "wkid": 25832, "latestWkid": 25832, "xyTolerance": 0.001, "zTolerance": 0.001, "mTolerance": 0.001, "falseX": -5120900, "falseY": -9998100, "xyUnits": 10000, "falseZ": -100000, "zUnits": 10000, "falseM": -100000, "mUnits": 10000 } }, "minScale": 1000000, "maxScale": 250, "units": "esriMeters", "supportedImageFormatTypes": "PNG32,PNG24,PNG,JPG,DIB,TIFF,EMF,PS,PDF,GIF,SVG,SVGZ,BMP", "documentInfo": { "Title": "HiGr_Luftbilder_Sommer_19_20", "Author": "", "Comments": "