{
 "currentVersion": 10.71,
 "serviceDescription": "Hoehendaten_3D-Modelle/suedost_2021",
 "name": "Hoehendaten_3D-Modelle/suedost_2021",
 "description": "",
 "extent": {
  "xmin": 345422.2322771633,
  "ymin": 5737549.942936342,
  "xmax": 374240.7322771633,
  "ymax": 5768318.442936342,
  "spatialReference": {
   "wkid": 25832,
   "latestWkid": 25832
  }
 },
 "initialExtent": {
  "xmin": 345422.2322771633,
  "ymin": 5737549.942936342,
  "xmax": 374240.7322771633,
  "ymax": 5768318.442936342,
  "spatialReference": {
   "wkid": 25832,
   "latestWkid": 25832
  }
 },
 "fullExtent": {
  "xmin": 345422.2322771633,
  "ymin": 5737549.942936342,
  "xmax": 374240.7322771633,
  "ymax": 5768318.442936342,
  "spatialReference": {
   "wkid": 25832,
   "latestWkid": 25832
  }
 },
 "pixelSizeX": 0.5,
 "pixelSizeY": 0.5,
 "bandCount": 1,
 "pixelType": "U8",
 "minPixelSize": 2.3886571339117526,
 "maxPixelSize": 4891.96981025127,
 "copyrightText": "",
 "serviceDataType": "esriImageServiceDataTypeGeneric",
 "minValues": [
  0
 ],
 "maxValues": [
  241
 ],
 "meanValues": [
  67.39987206389004
 ],
 "stdvValues": [
  14.86053888528288
 ],
 "objectIdField": "",
 "fields": [],
 "capabilities": "Image,Metadata,Mensuration",
 "defaultMosaicMethod": "Center",
 "allowedMosaicMethods": "",
 "sortField": "",
 "sortValue": null,
 "mosaicOperator": "First",
 "defaultCompressionQuality": 75,
 "defaultResamplingMethod": "Bilinear",
 "maxImageHeight": 4100,
 "maxImageWidth": 15000,
 "singleFusedMapCache": true,
 "tileInfo": {
  "rows": 256,
  "cols": 256,
  "dpi": 96,
  "format": "LERC",
  "compressionQuality": 0,
  "lercError": 0.05,
  "origin": {
   "x": -46133.17,
   "y": 6301219.54
  },
  "spatialReference": {
   "wkid": 25832,
   "latestWkid": 25832
  },
  "lods": [
   {
    "level": 0,
    "resolution": 4891.96981025127,
    "scale": 1.74713207508974E7
   },
   {
    "level": 1,
    "resolution": 2445.98490512563,
    "scale": 8735660.37544869
   },
   {
    "level": 2,
    "resolution": 1222.99245256282,
    "scale": 4367830.18772435
   },
   {
    "level": 3,
    "resolution": 611.496226281409,
    "scale": 2183915.09386217
   },
   {
    "level": 4,
    "resolution": 305.748113140704,
    "scale": 1091957.54693109
   },
   {
    "level": 5,
    "resolution": 152.874056570352,
    "scale": 545978.773465543
   },
   {
    "level": 6,
    "resolution": 76.4370282851761,
    "scale": 272989.386732772
   },
   {
    "level": 7,
    "resolution": 38.218514142588,
    "scale": 136494.693366386
   },
   {
    "level": 8,
    "resolution": 19.109257071294,
    "scale": 68247.3466831929
   },
   {
    "level": 9,
    "resolution": 9.55462853564701,
    "scale": 34123.6733415965
   },
   {
    "level": 10,
    "resolution": 4.77731426782351,
    "scale": 17061.8366707982
   },
   {
    "level": 11,
    "resolution": 2.38865713391175,
    "scale": 8530.91833539912
   },
   {
    "level": 12,
    "resolution": 1.19432856695588,
    "scale": 4265.45916769956
   },
   {
    "level": 13,
    "resolution": 0.597164283477938,
    "scale": 2132.72958384978
   },
   {
    "level": 14,
    "resolution": 0.298582141738969,
    "scale": 1066.36479192489
   },
   {
    "level": 15,
    "resolution": 0.149291070869485,
    "scale": 533.182395962445
   },
   {
    "level": 16,
    "resolution": 0.0746455354347423,
    "scale": 266.591197981222
   }
  ]
 },
 "cacheType": "Elevation",
 "allowRasterFunction": true,
 "rasterFunctionInfos": [
  {
   "name": "None",
   "description": "",
   "help": ""
  }
 ],
 "rasterTypeInfos": [
  {
   "name": "Raster Dataset",
   "description": "Unterstützt alle ArcGIS-Raster-Datasets",
   "help": ""
  }
 ],
 "mensurationCapabilities": "Basic",
 "hasHistograms": true,
 "hasColormap": false,
 "hasRasterAttributeTable": false,
 "minScale": 1.74713207508974E7,
 "maxScale": 8530.91833539912,
 "minLOD": 0,
 "maxLOD": 11,
 "exportTilesAllowed": false,
 "hasMultidimensions": false,
 "supportsStatistics": false,
 "supportsAdvancedQueries": false,
 "editFieldsInfo": null,
 "ownershipBasedAccessControlForRasters": null,
 "allowComputeTiePoints": false,
 "useStandardizedQueries": true,
 "advancedQueryCapabilities": {
  "useStandardizedQueries": true,
  "supportsStatistics": false,
  "supportsOrderBy": false,
  "supportsDistinct": false,
  "supportsPagination": false
 },
 "spatialReference": {
  "wkid": 25832,
  "latestWkid": 25832
 }
}
