{ "currentVersion": 10.71, "cimVersion": "2.4.0", "serviceDescription": "

Luftbilder 2017 Kreis Steinfurt<\/span><\/p><\/div><\/div><\/div>", "mapName": "Luftbilder_2014", "description": "

Luftbilder 201<\/SPAN>4<\/SPAN> Kreis Steinfurt<\/SPAN><\/P><\/DIV><\/DIV><\/DIV>", "copyrightText": "© Kreis Steinfurt - sämtliche Geodaten sind urheberrechtlich geschützt!<\/a>", "supportsDynamicLayers": false, "layers": [ { "id": 0, "name": "LB_2014", "parentLayerId": -1, "defaultVisibility": true, "subLayerIds": null, "minScale": 0, "maxScale": 0, "type": "Feature Layer", "geometryType": "esriGeometryPolygon", "supportsDynamicLegends": true } ], "tables": [], "spatialReference": { "wkid": 25832, "latestWkid": 25832, "xyTolerance": 0.001, "zTolerance": 0.001, "mTolerance": 0.001, "falseX": -5120900, "falseY": -9998100, "xyUnits": 10000, "falseZ": -100000, "zUnits": 10000, "falseM": -100000, "mUnits": 10000 }, "singleFusedMapCache": true, "tileInfo": { "rows": 256, "cols": 256, "dpi": 96, "format": "JPEG", "compressionQuality": 75, "origin": { "x": -5120900, "y": 9998100 }, "spatialReference": { "wkid": 25832, "latestWkid": 25832, "xyTolerance": 0.001, "zTolerance": 0.001, "mTolerance": 0.001, "falseX": -5120900, "falseY": -9998100, "xyUnits": 10000, "falseZ": -100000, "zUnits": 10000, "falseM": -100000, "mUnits": 10000 }, "lods": [ { "level": 0, "resolution": 79.37515875031751, "scale": 300000 }, { "level": 1, "resolution": 52.91677250021167, "scale": 200000 }, { "level": 2, "resolution": 26.458386250105836, "scale": 100000 }, { "level": 3, "resolution": 13.229193125052918, "scale": 50000 }, { "level": 4, "resolution": 6.614596562526459, "scale": 25000 }, { "level": 5, "resolution": 2.6458386250105836, "scale": 10000 }, { "level": 6, "resolution": 1.3229193125052918, "scale": 5000 }, { "level": 7, "resolution": 0.6614596562526459, "scale": 2500 }, { "level": 8, "resolution": 0.26458386250105836, "scale": 1000 }, { "level": 9, "resolution": 0.13229193125052918, "scale": 500 } ] }, "initialExtent": { "xmin": 365052.63977600995, "ymin": 5746454.31766338, "xmax": 435822.36921585945, "ymax": 5834149.542933389, "spatialReference": { "wkid": 25832, "latestWkid": 25832, "xyTolerance": 0.001, "zTolerance": 0.001, "mTolerance": 0.001, "falseX": -5120900, "falseY": -9998100, "xyUnits": 10000, "falseZ": -100000, "zUnits": 10000, "falseM": -100000, "mUnits": 10000 } }, "fullExtent": { "xmin": 337125.5716562487, "ymin": 5746454.31766338, "xmax": 463749.4373356207, "ymax": 5834149.542933389, "spatialReference": { "wkid": 25832, "latestWkid": 25832, "xyTolerance": 0.001, "zTolerance": 0.001, "mTolerance": 0.001, "falseX": -5120900, "falseY": -9998100, "xyUnits": 10000, "falseZ": -100000, "zUnits": 10000, "falseM": -100000, "mUnits": 10000 } }, "minScale": 300000, "maxScale": 500, "units": "esriMeters", "supportedImageFormatTypes": "PNG32,PNG24,PNG,JPG,DIB,TIFF,EMF,PS,PDF,GIF,SVG,SVGZ,BMP", "documentInfo": { "Title": "Luftbilder 2014", "Author": "", "Comments": "