View In:
ArcGIS JavaScript
ArcGIS Online Map Viewer
ArcGIS Earth
ArcMap
View Footprint In:
ArcGIS Online Map Viewer
Service Description: Bauen_Wohnen/Bauleitplaene
Name: Bauen_Wohnen/Bauleitplaene
Description:
Single Fused Map Cache: false
Extent:
XMin: -0.5323525657877326
YMin: -1782.5124881714582
XMax: 364424.17877957574
YMax: 5757409.179120636
Spatial Reference: 25832
(25832)
Initial Extent:
XMin: -0.5323525657877326
YMin: -1782.5124881714582
XMax: 364424.17877957574
YMax: 5757409.179120636
Spatial Reference: 25832
(25832)
Full Extent:
XMin: -0.5323525657877326
YMin: -1782.5124881714582
XMax: 364424.17877957574
YMax: 5757409.179120636
Spatial Reference: 25832
(25832)
Time Info:
Start Time Field: Datum_Rechtskraft
End Time Field: Datum_Rechtskraft
Time Extent:
[1966/10/18 00:00:00 UTC, 2021/06/18 00:00:00 UTC]
Time Reference:
N/A
Pixel Size X: 0.04499075506777002
Pixel Size Y: 0.04499075506777002
Band Count: 3
Pixel Type: U8
RasterFunction Infos: {"rasterFunctionInfos": [{
"name": "None",
"description": "",
"help": ""
}]}
Mensuration Capabilities: Basic
Has Histograms: false
Has Colormap: false
Has Multi Dimensions : false
Rendering Rule:
Min Scale: 0
Max Scale: 0
Copyright Text:
Service Data Type: esriImageServiceDataTypeRGB
Min Values: N/A
Max Values: N/A
Mean Values: N/A
Standard Deviation Values: N/A
Object ID Field: OBJECTID
Fields:
-
OBJECTID
(
type: esriFieldTypeOID, alias: OBJECTID
)
-
Shape
(
type: esriFieldTypeGeometry, alias: Shape
)
-
Name
(
type: esriFieldTypeString, alias: Name, length: 200
)
-
MinPS
(
type: esriFieldTypeDouble, alias: MinPS
)
-
MaxPS
(
type: esriFieldTypeDouble, alias: MaxPS
)
-
LowPS
(
type: esriFieldTypeDouble, alias: LowPS
)
-
HighPS
(
type: esriFieldTypeDouble, alias: HighPS
)
-
Category
(
type: esriFieldTypeInteger, alias: Category
,
Coded Values:
[0: Unknown]
,
[1: Primary]
,
[2: Overview]
, ...6 more...
)
-
Tag
(
type: esriFieldTypeString, alias: Tag, length: 100
)
-
GroupName
(
type: esriFieldTypeString, alias: GroupName, length: 100
)
-
ProductName
(
type: esriFieldTypeString, alias: ProductName, length: 100
)
-
CenterX
(
type: esriFieldTypeDouble, alias: CenterX
)
-
CenterY
(
type: esriFieldTypeDouble, alias: CenterY
)
-
ZOrder
(
type: esriFieldTypeInteger, alias: ZOrder
)
-
Shape_Length
(
type: esriFieldTypeDouble, alias: Shape_Length
)
-
Shape_Area
(
type: esriFieldTypeDouble, alias: Shape_Area
)
-
Datum_Rechtskraft
(
type: esriFieldTypeDate, alias: Datum_Rechtskraft, length: 8
)
Default Mosaic Method: ByAttribute
Allowed Mosaic Methods: ByAttribute
SortField: Name
SortValue: 0
Mosaic Operator: Last
Default Compression Quality: 75
Default Resampling Method: Bilinear
Max Record Count: 100
Max Image Height: 50000
Max Image Width: 150000
Max Download Image Count: 20
Max Mosaic Image Count: 50
Allow Raster Function: true
Allow Compute TiePoints: false
Supports Statistics: true
Supports Advanced Queries: true
Use StandardizedQueries: true
Raster Type Infos:
Name: Raster Dataset
Description: Unterstützt alle ArcGIS-Raster-Datasets
Help:
Has Raster Attribute Table: false
Edit Fields Info: null
Ownership Based AccessControl For Rasters: null
Child Resources:
Info
Key Properties
Legend
MultiDimensionalInfo
rasterFunctionInfos
Supported Operations:
Export Image
Identify
Compute Histograms
Compute Statistics Histograms
Get Samples
Compute Class Statistics
Query Boundary
Compute Pixel Location