View In:
ArcGIS JavaScript
ArcGIS Online Map Viewer
ArcGIS Earth
ArcMap
ArcGIS Pro
View Footprint In:
ArcGIS Online Map Viewer
Service Description: Basisk@rte Abdecker Kreis Borken
Map Name: Basiskarte_Kreis_Borken_WM
Legend
All Layers and Tables
Layers:
Description:
Copyright Text: © <a href='http://www.kreis-borken.de/copyright-gdm' target='_blank'>Kreis Borken - sämtliche Geodaten sind urheberrechtlich geschützt!</a>
Spatial Reference:
102100
(3857)
Single Fused Map Cache: true
Tile Info:
- Height: 256
- Width: 256
- DPI: 96
-
Levels of Detail: 20
-
Level ID: 0
[ Start Tile, End Tile ]
- Resolution: 156543.03392800014
- Scale: 5.91657527591555E8
-
Level ID: 1
[ Start Tile, End Tile ]
- Resolution: 78271.51696399994
- Scale: 2.95828763795777E8
-
Level ID: 2
[ Start Tile, End Tile ]
- Resolution: 39135.75848200009
- Scale: 1.47914381897889E8
-
Level ID: 3
[ Start Tile, End Tile ]
- Resolution: 19567.87924099992
- Scale: 7.3957190948944E7
-
Level ID: 4
[ Start Tile, End Tile ]
- Resolution: 9783.93962049996
- Scale: 3.6978595474472E7
-
Level ID: 5
[ Start Tile, End Tile ]
- Resolution: 4891.96981024998
- Scale: 1.8489297737236E7
- Format: PNG32
- Compression Quality: 0.0
- Origin: X: -2.0037508342787E7
Y: 2.0037508342787E7
- Spatial Reference: 102100
(3857)
Initial Extent:
XMin: 582306.4352680361
YMin: 6370551.880315313
XMax: 992406.6531825212
YMax: 7137929.103063963
Spatial Reference: 102100
(3857)
Full Extent:
XMin: 176436.8328705757
YMin: 6387311.400140566
XMax: 1412544.1754440244
YMax: 7101559.170370127
Spatial Reference: 102100
(3857)
Units: esriMeters
Supported Image Format Types: PNG32,PNG24,PNG,JPG,DIB,TIFF,EMF,PS,PDF,GIF,SVG,SVGZ,BMP
Document Info:
Title: HiGr Basiskarte Kreis Borken Web Mercator
Author:
Comments: <DIV STYLE="text-align:Left;"><DIV><DIV STYLE="font-size:12pt"><P><SPAN>Basisk@rte </SPAN><SPAN>Abdecker </SPAN><SPAN>Kreis Borken</SPAN></P></DIV></DIV></DIV>
Subject: Basisk@rte Kreis Borken
Category:
Keywords: Basiskarte,Basisk@rte Kreis Borken
AntialiasingMode: Fast
TextAntialiasingMode: Force
Supports Dynamic Layers: false
MaxRecordCount: 2000
MaxImageHeight: 4096
MaxImageWidth: 4096
Supported Query Formats: JSON, geoJSON, PBF
Min Scale: 5.91657527591555E8
Max Scale: 1128.497176
Supports Datum Transformation: true
Child Resources:
Info
Supported Operations:
Export Map
Identify
QueryDomains
QueryLegends
Find
Return Updates