View In:
ArcGIS JavaScript
ArcGIS Online Map Viewer
ArcGIS Earth
ArcGIS Pro
Service Description: <DIV STYLE="text-align:Left;font-size:12pt"><P><SPAN>Stadtpl@n in AdV-Maßstäben</SPAN></P></DIV>
Map Name: Stadtplan_AdV
Legend
All Layers and Tables
Layers:
Description: Stadtpl@n in AdV-Maßstäben
Service Item Id: 449159bb88c345599df85affcbc5e6fe
Copyright Text: © <a href='http://www.kreis-borken.de/copyright-gdm' target='_blank'>Kreis Borken - sämtliche Geodaten sind urheberrechtlich geschützt!</a>
Spatial Reference:
25832
(25832)
LatestVCSWkid(0)
Single Fused Map Cache: true
Tile Info:
- Height: 256
- Width: 256
- DPI: 96
-
Levels of Detail: 17
-
Level ID: 0
[ Start Tile, End Tile ]
- Resolution: 4891.96981025127
- Scale: 1.74713207508974E7
-
Level ID: 10
[ Start Tile, End Tile ]
- Resolution: 4.77731426782351
- Scale: 17061.8366707982
-
Level ID: 11
[ Start Tile, End Tile ]
- Resolution: 2.38865713391175
- Scale: 8530.91833539912
-
Level ID: 12
[ Start Tile, End Tile ]
- Resolution: 1.19432856695588
- Scale: 4265.45916769956
-
Level ID: 13
[ Start Tile, End Tile ]
- Resolution: 0.597164283477938
- Scale: 2132.72958384978
-
Level ID: 14
[ Start Tile, End Tile ]
- Resolution: 0.298582141738969
- Scale: 1066.36479192489
-
Level ID: 15
[ Start Tile, End Tile ]
- Resolution: 0.149291070869485
- Scale: 533.182395962445
-
Level ID: 16
[ Start Tile, End Tile ]
- Resolution: 0.0746455354347423
- Scale: 266.591197981222
- Format: PNG32
- Compression Quality: 0.0
- Origin: X: -46133.17
Y: 6301219.54
- Spatial Reference: 25832
(25832)
LatestVCSWkid(0)
Storage Info:
- Storage Format: esriMapCacheStorageModeCompactV2
- Packet Size: 128
Initial Extent:
XMin: 221614.30529224154
YMin: 5588262.8417148655
XMax: 530369.9874077586
YMax: 5884108.878585135
Spatial Reference: 25832
(25832)
LatestVCSWkid(0)
Full Extent:
XMin: 222646.83727432962
YMin: 5651984.79870158
XMax: 512630.7505754896
YMax: 5871324.820714957
Spatial Reference: 25832
(25832)
LatestVCSWkid(0)
Units: esriMeters
Supported Image Format Types: PNG32,PNG24,PNG,JPG,DIB,TIFF,EMF,PS,PDF,GIF,SVG,SVGZ,BMP
Document Info:
Title: Stadtplan_AdV
Author:
Comments: Stadtpl@n in AdV-Maßstäben
Subject: Stadtpl@n in AdV-Maßstäben
Category:
Keywords: Stadtpl@n
AntialiasingMode: Fast
TextAntialiasingMode: Force
Supports Dynamic Layers: false
Resampling: true
MaxRecordCount: 2000
MaxImageHeight: 4096
MaxImageWidth: 4096
Supported Query Formats: JSON, geoJSON, PBF
Supports Query Data Elements: true
Min Scale: 1091957.54693109
Max Scale: 266.59119798122
Supports Datum Transformation: true
Child Resources:
Info
Supported Operations:
Export Map
Identify
QueryLegends
QueryDomains
Find
Return Updates