View In:
ArcGIS JavaScript
ArcGIS Online Map Viewer
ArcGIS Earth
ArcMap
View Footprint In:
ArcGIS Online Map Viewer
Service Description: Hoehendaten_3D-Modelle/suedost_2021
Name: Hoehendaten_3D-Modelle/suedost_2021
Description:
Single Fused Map Cache: true
Tile Info:
- Height: 256
- Width: 256
- DPI: 96
-
Levels of Detail: 17
-
Level ID: 0
[ Start Tile, End Tile ]
- Resolution: 4891.96981025127
- Scale: 1.74713207508974E7
-
Level ID: 10
[ Start Tile, End Tile ]
- Resolution: 4.77731426782351
- Scale: 17061.8366707982
-
Level ID: 11
[ Start Tile, End Tile ]
- Resolution: 2.38865713391175
- Scale: 8530.91833539912
-
Level ID: 12
[ Start Tile, End Tile ]
- Resolution: 1.19432856695588
- Scale: 4265.45916769956
-
Level ID: 13
[ Start Tile, End Tile ]
- Resolution: 0.597164283477938
- Scale: 2132.72958384978
-
Level ID: 14
[ Start Tile, End Tile ]
- Resolution: 0.298582141738969
- Scale: 1066.36479192489
-
Level ID: 15
[ Start Tile, End Tile ]
- Resolution: 0.149291070869485
- Scale: 533.182395962445
-
Level ID: 16
[ Start Tile, End Tile ]
- Resolution: 0.0746455354347423
- Scale: 266.591197981222
- Format: LERC
- Compression Quality: 0.0
- LERC Error: 0.05
- Origin: X: -46133.17
Y: 6301219.54
- Spatial Reference: 25832
(25832)
Extent:
XMin: 345422.2322771633
YMin: 5737549.942936342
XMax: 374240.7322771633
YMax: 5768318.442936342
Spatial Reference: 25832
(25832)
Initial Extent:
XMin: 345422.2322771633
YMin: 5737549.942936342
XMax: 374240.7322771633
YMax: 5768318.442936342
Spatial Reference: 25832
(25832)
Full Extent:
XMin: 345422.2322771633
YMin: 5737549.942936342
XMax: 374240.7322771633
YMax: 5768318.442936342
Spatial Reference: 25832
(25832)
Pixel Size X: 0.5
Pixel Size Y: 0.5
Band Count: 1
Pixel Type: U8
RasterFunction Infos: {"rasterFunctionInfos": [{
"name": "None",
"description": "",
"help": ""
}]}
Mensuration Capabilities: Basic
Has Histograms: true
Has Colormap: false
Has Multi Dimensions : false
Rendering Rule:
Min Scale: 1.74713207508974E7
Max Scale: 8530.91833539912
Min LOD: 0
Max LOD: 11
Copyright Text:
Service Data Type: esriImageServiceDataTypeGeneric
Min Values: 0
Max Values: 241
Mean Values: 67.39987206389004
Standard Deviation Values: 14.86053888528288
Object ID Field:
Fields:
None
Default Mosaic Method: Center
Allowed Mosaic Methods:
SortField:
SortValue: null
Mosaic Operator: First
Default Compression Quality: 75
Default Resampling Method: Bilinear
Max Record Count: null
Max Image Height: 4100
Max Image Width: 15000
Max Download Image Count: null
Max Mosaic Image Count: null
Allow Raster Function: true
Allow Compute TiePoints: false
Supports Statistics: false
Supports Advanced Queries: false
Use StandardizedQueries: true
Raster Type Infos:
Name: Raster Dataset
Description: Unterstützt alle ArcGIS-Raster-Datasets
Help:
Has Raster Attribute Table: false
Edit Fields Info: null
Ownership Based AccessControl For Rasters: null
Child Resources:
Info
Histograms
Key Properties
Legend
MultiDimensionalInfo
rasterFunctionInfos
Supported Operations:
Export Image
Identify
Measure
Compute Histograms
Compute Statistics Histograms
Get Samples
Compute Class Statistics
Query Boundary
Compute Pixel Location